BEGIN:VCALENDAR
VERSION:2.0
PRODID:-//Women Cyber Force - ECPv5.9.1//NONSGML v1.0//EN
CALSCALE:GREGORIAN
METHOD:PUBLISH
X-WR-CALNAME:Women Cyber Force
X-ORIGINAL-URL:https://www.womencyberforce.lu
X-WR-CALDESC:Events for Women Cyber Force
BEGIN:VTIMEZONE
TZID:Europe/Luxembourg
BEGIN:DAYLIGHT
TZOFFSETFROM:+0100
TZOFFSETTO:+0200
TZNAME:CEST
DTSTART:20210328T010000
END:DAYLIGHT
BEGIN:STANDARD
TZOFFSETFROM:+0200
TZOFFSETTO:+0100
TZNAME:CET
DTSTART:20211031T010000
END:STANDARD
END:VTIMEZONE
BEGIN:VEVENT
DTSTART;VALUE=DATE:20210914
DTEND;VALUE=DATE:20210916
DTSTAMP:20211008T173744
CREATED:20210810T124238Z
LAST-MODIFIED:20210810T124745Z
UID:3274-1631577600-1631750399@www.womencyberforce.lu
SUMMARY:ICT SPRING 2021
DESCRIPTION:Next September 14th and 15th\, more than 100 international experts will participate in a new edition of ICT Spring\, the renowned tech summit. The event\, organized since 2010\, will take place at the European Conference Center Luxembourg\, at the very heart of Europe: ICT Spring will therefore be the first largest in-person event of the year.
URL:https://www.womencyberforce.lu/event/ict-spring-2021/
LOCATION:European Convention Center Luxembourg\, 4 Place de l'Europe\, Luxembourg\, 1499\, Luxembourg
ATTACH;FMTTYPE=image/jpeg:https://www.womencyberforce.lu/wp-content/uploads/2021/08/ICT-banner.jpg
END:VEVENT
BEGIN:VEVENT
DTSTART;TZID=Europe/Luxembourg:20210915T090000
DTEND;TZID=Europe/Luxembourg:20210915T170000
DTSTAMP:20211008T173744
CREATED:20210907T072305Z
LAST-MODIFIED:20210907T074918Z
UID:3295-1631696400-1631725200@www.womencyberforce.lu
SUMMARY:European Security Forum
DESCRIPTION:Full-day event gathering of cybersecurity professionals\, happening within the ICT Spring global tech conference. \nFeaturing an exclusive programme of conferences and workshops given by recognised experts\, an exhibition area to discover the newest innovations on the market and many networking opportunities. \nWCF Vice-President Sheila Becker and WCF Secretary General Desirée Alegre\, will be acting as the masters of ceremony.
URL:https://www.womencyberforce.lu/event/european-security-forum/
LOCATION:European Convention Center Luxembourg\, 4 Place de l'Europe\, Luxembourg\, 1499\, Luxembourg
ATTACH;FMTTYPE=image/png:https://www.womencyberforce.lu/wp-content/uploads/2021/09/ESF_1200x628.png
END:VEVENT
BEGIN:VEVENT
DTSTART;VALUE=DATE:20211018
DTEND;VALUE=DATE:20211029
DTSTAMP:20211008T173744
CREATED:20210810T142627Z
LAST-MODIFIED:20210810T142936Z
UID:3282-1634515200-1635465599@www.womencyberforce.lu
SUMMARY:Cybersecurity Week
DESCRIPTION:As part of the European Cybersecurity Month campaign\, the Cybersecurity Week Luxembourg will be held from 18-28 October 2021. Back to its on-site version this year\, health guidelines allowing.
URL:https://www.womencyberforce.lu/event/cybersecurity-week/
ATTACH;FMTTYPE=image/png:https://www.womencyberforce.lu/wp-content/uploads/2021/08/cyber-security-week.png
END:VEVENT
BEGIN:VEVENT
DTSTART;VALUE=DATE:20211116
DTEND;VALUE=DATE:20211119
DTSTAMP:20211008T173744
CREATED:20210907T074541Z
LAST-MODIFIED:20210907T074842Z
UID:3297-1637020800-1637279999@www.womencyberforce.lu
SUMMARY:Luxembourg Internet Days 2021
DESCRIPTION:The Luxembourg Internet Days yearly event has become an industry must to address trends\, developments and challenges for the ICT professionals in the Greater Region and beyond. Year after year the Luxembourg Internet Days gathers during two days increasing number of visitors joining free of charges high level conferences\, business case presentations\, round tables\, networking sessions and an expo. \nThe Luxembourg Internet Days 2021 will be held online. Registration is open here. \nNetwork Security & Cloud Security will be the main topics with technical and pragmatic discussions throughout the three days (16-18 Nov) to help professionals stay on top of evolving threats and current trends\, and help identify the most appropriate solutions to overcome the current challenges.
URL:https://www.womencyberforce.lu/event/luxembourg-internet-days-2021/
ATTACH;FMTTYPE=image/png:https://www.womencyberforce.lu/wp-content/uploads/2021/09/LuxInternetDays.png
END:VEVENT
END:VCALENDAR